Workbook

Sheet RawData
A1: ID - Attività | B1: Città | C1: Provincia | D1: Regione | E1: Ordini | F1: Kg di Cibo Salvati | G1: Data di Nascita proprietario | H1: Valutazione | I1: Iscrizione Premium Attiva | J1: Iscritti per + di 1 anno | K1: Post Instagram con promozione servizio
A2: 2317 | B2: Roma | C2: RM | D2: LAZ | E2: 6 | F2: 353 | G2: 21325 | H2: 2 | I2: No | J2: No | K2: Sì
A3: 4300 | B3: Milano | C3: MI | D3: LOM | E3: 2 | F3: 886 | G3: 24375 | H3: 7 | I3: Sì | J3: No | K3: Sì
A4: 2705 | B4: Napoli | C4: NA | D4: CAM | E4: 3 | F4: 616 | G4: 30292 | H4: 8 | I4: No | J4: Sì | K4: Sì
A5: 3392 | B5: Torino | C5: TO | D5: PIE | E5: 1 | F5: 973 | G5: 25828 | H5: 2 | I5: Sì | J5: No | K5: No
A6: 5196 | B6: Palermo | C6: PA | D6: SIC | E6: 10 | F6: 550 | G6: 21486 | H6: 4 | I6: No | J6: No | K6: No
A7: 4104 | B7: Genova | C7: GE | D7: LIG | E7: 1 | F7: 376 | G7: 27425 | H7: 7 | I7: No | J7: No | K7: Sì
A8: 4657 | B8: Bologna | C8: BO | D8: EMR | E8: 6 | F8: 846 | G8: 34226 | H8: 6 | I8: Sì | J8: No | K8: Sì
A9: 4433 | B9: Firenze | C9: FI | D9: TOS | E9: 3 | F9: 584 | G9: 28902 | H9: 4 | I9: No | J9: No | K9: Sì
A10: 5411 | B10: Bari | C10: BA | D10: PUG | E10: 14 | F10: 446 | G10: 20863 | H10: 7 | I10: Sì | J10: No | K10: No
A11: 2839 | B11: Catania | C11: CT | D11: SIC | E11: 4 | F11: 586 | G11: 20162 | H11: 9 | I11: Sì | J11: Sì | K11: No
A12: 2623 | B12: Venezia | C12: VE | D12: VEN | E12: 10 | F12: 578 | G12: 30415 | H12: 1 | I12: Sì | J12: No | K12: No
A13: 2789 | B13: Verona | C13: VR | D13: VEN | E13: 6 | F13: 961 | G13: 31939 | H13: 7 | I13: No | J13: Sì | K13: Sì
... A64: 3868 | B64: Roma | C64: RM | D64: LAZ | E64: 7 | F64: 867 | G64: 24495 | H64: 4 | I64: No | J64: Sì | K64: Sì
A65: 5054 | B65: Milano | C65: MI | D65: LOM | E65: 4 | F65: 712 | G65: 23755 | H65: 6 | I65: Sì | J65: No | K65: No | BQ65: =MATCH(BO65,'RawData'!B:B) -> #N/A
A66: 5343 | B66: Napoli | C66: NA | D66: CAM | E66: 11 | F66: 616 | G66: 30634 | H66: 7 | I66: No | J66: No | K66: Sì
A67: 3675 | B67: Torino | C67: TO | D67: PIE | E67: 8 | F67: 882 | G67: 24574 | H67: 6 | I67: No | J67: No | K67: No
A68: 4074 | B68: Palermo | C68: PA | D68: SIC | E68: 10 | F68: 78 | G68: 34709 | H68: 9 | I68: Sì | J68: No | K68: No
A69: 3972 | B69: Genova | C69: GE | D69: LIG | E69: 11 | F69: 347 | G69: 28942 | H69: 9 | I69: No | J69: Sì | K69: No
A70: 4619 | B70: Bologna | C70: BO | D70: EMR | E70: 1 | F70: 113 | G70: 20901 | H70: 4 | I70: No | J70: Sì | K70: Sì
A71: 2910 | B71: Firenze | C71: FI | D71: TOS | E71: 14 | F71: 105 | G71: 25115 | H71: 10 | I71: No | J71: Sì | K71: No
A72: 3700 | B72: Bari | C72: BA | D72: PUG | E72: 12 | F72: 629 | G72: 31679 | H72: 7 | I72: Sì | J72: No | K72: Sì
A73: 5052 | B73: Catania | C73: CT | D73: SIC | E73: 2 | F73: 33 | G73: 26071 | H73: 10 | I73: Sì | J73: Sì | K73: No
A74: 2518 | B74: Venezia | C74: VE | D74: VEN | E74: 13 | F74: 343 | G74: 20379 | H74: 4 | I74: Sì | J74: No | K74: No
A75: 4553 | B75: Verona | C75: VR | D75: VEN | E75: 10 | F75: 72 | G75: 20585 | H75: 5 | I75: No | J75: No | K75: No
A76: 4343 | B76: Messina | C76: ME | D76: SIC | E76: 15 | F76: 80 | G76: 27395 | H76: 2 | I76: Sì | J76: Sì | K76: No
A77: 3939 | B77: Padova | C77: PD | D77: VEN | E77: 10 | F77: 501 | G77: 30252 | H77: 9 | I77: Sì | J77: No | K77: Sì
... A301: 4333 | B301: Vibo Valentia | C301: VV | D301: CAL | E301: 14 | F301: 295 | G301: 32937 | H301: 7 | I301: No | J301: No | K301: Sì

Sheet Operative_Fabio_Mencio
A1: ID - Attività | B1: Città | C1: Provincia | D1: Regione | E1: Ordini | F1: Kg di Cibo Salvati | G1: Data di Nascita proprietario | H1: Valutazione | I1: Iscrizione Premium Attiva | J1: Iscritti per + di 1 anno | K1: Post Instagram con promozione servizio | U1: risposta 6 e 7 | Z1: risposta 8 | AE1: risposta 9 | AO1: {=_xlfn.UNIQUE('RawData'!A:A)} -> ID - Attività | AP1: voto | AQ1: PREMIUM | AR1: 6 | AS1: maggiore di 6 e Premium | AU1: {=_xlfn.UNIQUE('RawData'!A:A)} -> ID - Attività | AV1: Social | AW1: Kg di Cibo Salvati | AY1: social SI | AZ1: top 10 | BC1: {=_xlfn.UNIQUE('RawData'!A:A)} -> ID - Attività | BD1: Social | BE1: Kg di Cibo Salvati | BG1: MEDIA (su dati aggregati) SOCIAL SI | BH1: MEDIA ( su dati aggregati) SOCIAL NO | BM1: risposta 5
A2: 2317 | B2: Roma | C2: RM | D2: LAZ | E2: 6 | F2: 353 | G2: 21325 | H2: 2 | I2: No | J2: No | K2: Sì | P2: risposta 4 | AO2: 2317 | AP2: =VLOOKUP(AO2,'RawData'!A:K,8,FALSE) -> 2 | AQ2: =VLOOKUP(AO2,'RawData'!A:K,9,FALSE) -> No | AR2: =COUNTIF(AP2:AP285,">"&AR1) -> 120 | AS2: =COUNTIFS(AP2:AP285,">6",AQ2:AQ285,"=Sì") -> 58 | AU2: 2317 | AV2: =VLOOKUP(AU2,'RawData'!A:K,11) -> Sì | AW2: =VLOOKUP(AU2,A:K,6,FALSE) -> 353 | AX2: top 10 | AY2: =COUNTIF(AV2:AV285,"=Sì") -> 210 | AZ2: =COUNTIF(AV3:AV12,"=Sì") -> 7 | BC2: 2317 | BD2: =VLOOKUP(BC2,'RawData'!A:K,11,FALSE) -> Sì | BE2: =VLOOKUP(BC2,A:K,6,FALSE) -> 353 | BG2: =INT(AVERAGEIFS(BE2:BE282,BD2:BD282,"Sì")) -> 517 | BH2: =INT(AVERAGEIFS(BE2:BE282,BD2:BD282,"No")) -> 499 | BM2: elenco comuni italiani | BO2: {=_xlfn.UNIQUE('RawData'!B:B)} -> Città | BP2: RISCONTRO | BQ2: posizione riga
A3: 4300 | B3: Milano | C3: MI | D3: LOM | E3: 2 | F3: 886 | G3: 24375 | H3: 7 | I3: Sì | J3: No | K3: Sì | P3: {=_xlfn.UNIQUE(D:D)} -> Regione | Q3: unità | R3: max | S3: Regione Max | X3: 500 | AB3: Sì | AE3: DATA ODIERNA | AF3: =TODAY() -> 46179 | AH3: 30 | AI3: TRUE | AK3: >=30 | AL3: FALSE | AO3: 4300 | AP3: =VLOOKUP(AO3,'RawData'!A:K,8,FALSE) -> 7 | AQ3: =VLOOKUP(AO3,'RawData'!A:K,9,FALSE) -> Sì | AU3: 4300 | AV3: =VLOOKUP(AU3,'RawData'!A:K,11) -> Sì | AW3: =VLOOKUP(AU3,A:K,6,FALSE) -> 886 | AX3: 1 | BC3: 4300 | BD3: =VLOOKUP(BC3,'RawData'!A:K,11,FALSE) -> Sì | BE3: =VLOOKUP(BC3,A:K,6,FALSE) -> 886 | BM3: Abano Terme | BO3: Roma | BP3: =VLOOKUP(BO3,BM:BM,1,FALSE) -> Roma
A4: 2705 | B4: Napoli | C4: NA | D4: CAM | E4: 3 | F4: 616 | G4: 30292 | H4: 8 | I4: No | J4: Sì | K4: Sì | P4: LAZ | Q4: =COUNTIF(D:D,P4) -> 35 | R4: =MAX(Q4:Q22) -> 56 | S4: =_xlfn.XLOOKUP((MAX(Q4:Q22)),Q4:Q22,P4:P22) -> LOM | V4: KG | X4: 500 kg | AO4: 2705 | AP4: =VLOOKUP(AO4,'RawData'!A:K,8,FALSE) -> 8 | AQ4: =VLOOKUP(AO4,'RawData'!A:K,9,FALSE) -> No | AU4: 2705 | AV4: =VLOOKUP(AU4,'RawData'!A:K,11) -> No | AW4: =VLOOKUP(AU4,A:K,6,FALSE) -> 616 | AX4: 2 | BC4: 2705 | BD4: =VLOOKUP(BC4,'RawData'!A:K,11,FALSE) -> Sì | BE4: =VLOOKUP(BC4,A:K,6,FALSE) -> 616 | BG4: MEDIA (su dati non aggregati) SOCIAL SI | BH4: MEDIA (su dati non aggregati) SOCIAL NO | BM4: Abbadia Cerreto | BO4: Milano | BP4: =VLOOKUP(BO4,BM:BM,1,FALSE) -> Milano
A5: 3392 | B5: Torino | C5: TO | D5: PIE | E5: 1 | F5: 973 | G5: 25828 | H5: 2 | I5: Sì | J5: No | K5: No | P5: LOM | Q5: =COUNTIF(D:D,P5) -> 56 | U5: {=_xlfn.UNIQUE('RawData'!A:A)} -> ID - Attività | V5: =SUMIF('RawData'!A:A,Operative_Fabio_Mencio!U5,'RawData'!F:F) -> 0 | W5: =_xlfn.XLOOKUP((MAX(V:V)),V:V,U:U) -> 3028 | AA5: {=_xlfn.UNIQUE('RawData'!A:A)} -> ID - Attività | AB5: PREMIUM | AE5: {=_xlfn.UNIQUE('RawData'!A:A)} -> ID - Attività | AF5: data nascita | AG5: età oggi | AI5: Under 30 | AJ5: Over 30 | AK5: % Under 30 | AO5: 3392 | AP5: =VLOOKUP(AO5,'RawData'!A:K,8,FALSE) -> 2 | AQ5: =VLOOKUP(AO5,'RawData'!A:K,9,FALSE) -> Sì | AU5: 3392 | AV5: =VLOOKUP(AU5,'RawData'!A:K,11) -> Sì | AW5: =VLOOKUP(AU5,A:K,6,FALSE) -> 973 | AX5: 3 | BC5: 3392 | BD5: =VLOOKUP(BC5,'RawData'!A:K,11,FALSE) -> No | BE5: =VLOOKUP(BC5,A:K,6,FALSE) -> 973 | BM5: Abbadia Lariana | BO5: Napoli | BP5: =VLOOKUP(BO5,BM:BM,1,FALSE) -> Napoli
A6: 5196 | B6: Palermo | C6: PA | D6: SIC | E6: 10 | F6: 550 | G6: 21486 | H6: 4 | I6: No | J6: No | K6: No | P6: CAM | Q6: =COUNTIF(D:D,P6) -> 34 | U6: 2317 | V6: =SUMIF('RawData'!A:A,Operative_Fabio_Mencio!U6,'RawData'!F:F) -> 353 | X6: =IF(V6>=$X$3,TRUE) -> FALSE | Y6: =COUNTIF(X6:X290,"VERO") -> 147 | AA6: 2317 | AB6: =VLOOKUP(Operative_Fabio_Mencio!AA6,'RawData'!A:K,9,FALSE) -> No | AC6: =COUNTIF(AB6:AB289,AB3) -> 138 | AE6: 2317 | AF6: =VLOOKUP(Operative_Fabio_Mencio!AA6,'RawData'!A:K,7,FALSE) -> 21325 | AG6: =INT(($AF$3-AF6)/365) -> 68 | AH6: =IF(AG6<$AH$3,"VERO") -> FALSE | AI6: =COUNTIF(AH6:AH289,$AI$3) -> 0 | AJ6: =COUNTIF(AH6:AH289,$AL$3) -> 284 | AK6: =AI6/AJ6 -> 0 | AO6: 5196 | AP6: =VLOOKUP(AO6,'RawData'!A:K,8,FALSE) -> 4 | AQ6: =VLOOKUP(AO6,'RawData'!A:K,9,FALSE) -> No | AU6: 5196 | AV6: =VLOOKUP(AU6,'RawData'!A:K,11) -> Sì | AW6: =VLOOKUP(AU6,A:K,6,FALSE) -> 550 | AX6: 4 | BC6: 5196 | BD6: =VLOOKUP(BC6,'RawData'!A:K,11,FALSE) -> No | BE6: =VLOOKUP(BC6,A:K,6,FALSE) -> 550 | BG6: MEDIA (dati non aggregati) SOCIAL SI | BH6: MEDIA (dati non aggregati) SOCIAL no | BM6: Abbadia San Salvatore | BO6: Torino | BP6: =VLOOKUP(BO6,BM:BM,1,FALSE) -> Torino
A7: 4104 | B7: Genova | C7: GE | D7: LIG | E7: 1 | F7: 376 | G7: 27425 | H7: 7 | I7: No | J7: No | K7: Sì | P7: PIE | Q7: =COUNTIF(D:D,P7) -> 24 | U7: 4300 | V7: =SUMIF('RawData'!A:A,Operative_Fabio_Mencio!U7,'RawData'!F:F) -> 886 | X7: =IF(V7>=$X$3,TRUE) -> TRUE | AA7: 4300 | AB7: =VLOOKUP(Operative_Fabio_Mencio!AA7,'RawData'!A:K,9,FALSE) -> Sì | AE7: 4300 | AF7: =VLOOKUP(Operative_Fabio_Mencio!AA7,'RawData'!A:K,7,FALSE) -> 24375 | AG7: =INT(($AF$3-AF7)/365) -> 59 | AH7: =IF(AG7<$AH$3,"VERO") -> FALSE | AO7: 4104 | AP7: =VLOOKUP(AO7,'RawData'!A:K,8,FALSE) -> 7 | AQ7: =VLOOKUP(AO7,'RawData'!A:K,9,FALSE) -> No | AU7: 4104 | AV7: =VLOOKUP(AU7,'RawData'!A:K,11) -> Sì | AW7: =VLOOKUP(AU7,A:K,6,FALSE) -> 376 | AX7: 5 | BC7: 4104 | BD7: =VLOOKUP(BC7,'RawData'!A:K,11,FALSE) -> Sì | BE7: =VLOOKUP(BC7,A:K,6,FALSE) -> 376 | BG7: =INT(AVERAGEIFS(F2:F301,K2:K301,"Sì")) -> 514 | BH7: =INT(AVERAGEIFS(F2:F301,K2:K301,"No")) -> 500 | BI7: RISPOSTA 14 | BM7: Abbasanta | BO7: Palermo | BP7: =VLOOKUP(BO7,BM:BM,1,FALSE) -> Palermo
A8: 4657 | B8: Bologna | C8: BO | D8: EMR | E8: 6 | F8: 846 | G8: 34226 | H8: 6 | I8: Sì | J8: No | K8: Sì | P8: SIC | Q8: =COUNTIF(D:D,P8) -> 25 | U8: 2705 | V8: =SUMIF('RawData'!A:A,Operative_Fabio_Mencio!U8,'RawData'!F:F) -> 616 | X8: =IF(V8>=$X$3,TRUE) -> TRUE | AA8: 2705 | AB8: =VLOOKUP(Operative_Fabio_Mencio!AA8,'RawData'!A:K,9,FALSE) -> No | AE8: 2705 | AF8: =VLOOKUP(Operative_Fabio_Mencio!AA8,'RawData'!A:K,7,FALSE) -> 30292 | AG8: =INT(($AF$3-AF8)/365) -> 43 | AH8: =IF(AG8<$AH$3,"VERO") -> FALSE | AO8: 4657 | AP8: =VLOOKUP(AO8,'RawData'!A:K,8,FALSE) -> 6 | AQ8: =VLOOKUP(AO8,'RawData'!A:K,9,FALSE) -> Sì | AS8: RISPOSTA 10 | AU8: 4657 | AV8: =VLOOKUP(AU8,'RawData'!A:K,11) -> Sì | AW8: =VLOOKUP(AU8,A:K,6,FALSE) -> 846 | AX8: 6 | AZ8: RISPOSTA 11 | BC8: 4657 | BD8: =VLOOKUP(BC8,'RawData'!A:K,11,FALSE) -> Sì | BE8: =VLOOKUP(BC8,A:K,6,FALSE) -> 846 | BM8: Abbateggio | BO8: Genova | BP8: =VLOOKUP(BO8,BM:BM,1,FALSE) -> Genova
A9: 4433 | B9: Firenze | C9: FI | D9: TOS | E9: 3 | F9: 584 | G9: 28902 | H9: 4 | I9: No | J9: No | K9: Sì | P9: LIG | Q9: =COUNTIF(D:D,P9) -> 5 | U9: 3392 | V9: =SUMIF('RawData'!A:A,Operative_Fabio_Mencio!U9,'RawData'!F:F) -> 973 | X9: =IF(V9>=$X$3,TRUE) -> TRUE | AA9: 3392 | AB9: =VLOOKUP(Operative_Fabio_Mencio!AA9,'RawData'!A:K,9,FALSE) -> Sì | AE9: 3392 | AF9: =VLOOKUP(Operative_Fabio_Mencio!AA9,'RawData'!A:K,7,FALSE) -> 25828 | AG9: =INT(($AF$3-AF9)/365) -> 55 | AH9: =IF(AG9<$AH$3,"VERO") -> FALSE | AO9: 4433 | AP9: =VLOOKUP(AO9,'RawData'!A:K,8,FALSE) -> 4 | AQ9: =VLOOKUP(AO9,'RawData'!A:K,9,FALSE) -> No | AU9: 4433 | AV9: =VLOOKUP(AU9,'RawData'!A:K,11) -> Sì | AW9: =VLOOKUP(AU9,A:K,6,FALSE) -> 584 | AX9: 7 | BC9: 4433 | BD9: =VLOOKUP(BC9,'RawData'!A:K,11,FALSE) -> Sì | BE9: =VLOOKUP(BC9,A:K,6,FALSE) -> 584 | BM9: Abbiategrasso | BO9: Bologna | BP9: =VLOOKUP(BO9,BM:BM,1,FALSE) -> Bologna
A10: 5411 | B10: Bari | C10: BA | D10: PUG | E10: 14 | F10: 446 | G10: 20863 | H10: 7 | I10: Sì | J10: No | K10: No | P10: EMR | Q10: =COUNTIF(D:D,P10) -> 20 | U10: 5196 | V10: =SUMIF('RawData'!A:A,Operative_Fabio_Mencio!U10,'RawData'!F:F) -> 550 | X10: =IF(V10>=$X$3,TRUE) -> TRUE | AA10: 5196 | AB10: =VLOOKUP(Operative_Fabio_Mencio!AA10,'RawData'!A:K,9,FALSE) -> No | AE10: 5196 | AF10: =VLOOKUP(Operative_Fabio_Mencio!AA10,'RawData'!A:K,7,FALSE) -> 21486 | AG10: =INT(($AF$3-AF10)/365) -> 67 | AH10: =IF(AG10<$AH$3,"VERO") -> FALSE | AO10: 5411 | AP10: =VLOOKUP(AO10,'RawData'!A:K,8,FALSE) -> 7 | AQ10: =VLOOKUP(AO10,'RawData'!A:K,9,FALSE) -> Sì | AU10: 5411 | AV10: =VLOOKUP(AU10,'RawData'!A:K,11) -> Sì | AW10: =VLOOKUP(AU10,A:K,6,FALSE) -> 446 | AX10: 8 | BC10: 5411 | BD10: =VLOOKUP(BC10,'RawData'!A:K,11,FALSE) -> No | BE10: =VLOOKUP(BC10,A:K,6,FALSE) -> 446 | BM10: Abetone Cutigliano | BO10: Firenze | BP10: =VLOOKUP(BO10,BM:BM,1,FALSE) -> Firenze
A11: 2839 | B11: =Operative_Fabio_Mencio!AC6 -> 138 | C11: CT | D11: SIC | E11: 4 | F11: 586 | G11: 20162 | H11: 9 | I11: Sì | J11: Sì | K11: No | P11: TOS | Q11: =COUNTIF(D:D,P11) -> 19 | U11: 4104 | V11: =SUMIF('RawData'!A:A,Operative_Fabio_Mencio!U11,'RawData'!F:F) -> 376 | X11: =IF(V11>=$X$3,TRUE) -> FALSE | AA11: 4104 | AB11: =VLOOKUP(Operative_Fabio_Mencio!AA11,'RawData'!A:K,9,FALSE) -> No | AE11: 4104 | AF11: =VLOOKUP(Operative_Fabio_Mencio!AA11,'RawData'!A:K,7,FALSE) -> 27425 | AG11: =INT(($AF$3-AF11)/365) -> 51 | AH11: =IF(AG11<$AH$3,"VERO") -> FALSE | AO11: 2839 | AP11: =VLOOKUP(AO11,'RawData'!A:K,8,FALSE) -> 9 | AQ11: =VLOOKUP(AO11,'RawData'!A:K,9,FALSE) -> Sì | AU11: 2839 | AV11: =VLOOKUP(AU11,'RawData'!A:K,11) -> No | AW11: =VLOOKUP(AU11,A:K,6,FALSE) -> 586 | AX11: 9 | BC11: 2839 | BD11: =VLOOKUP(BC11,'RawData'!A:K,11,FALSE) -> No | BE11: =VLOOKUP(BC11,A:K,6,FALSE) -> 586 | BM11: Abriola | BO11: Bari | BP11: =VLOOKUP(BO11,BM:BM,1,FALSE) -> Bari
A12: 2623 | B12: =CONCATENATE(Operative_Fabio_Mencio!AI6," ",Operative_Fabio_Mencio!AK6) -> 0 0 | C12: VE | D12: VEN | E12: 10 | F12: 578 | G12: 30415 | H12: 1 | I12: Sì | J12: No | K12: No | P12: PUG | Q12: =COUNTIF(D:D,P12) -> 20 | U12: 4657 | V12: =SUMIF('RawData'!A:A,Operative_Fabio_Mencio!U12,'RawData'!F:F) -> 941 | X12: =IF(V12>=$X$3,TRUE) -> TRUE | AA12: 4657 | AB12: =VLOOKUP(Operative_Fabio_Mencio!AA12,'RawData'!A:K,9,FALSE) -> Sì | AE12: 4657 | AF12: =VLOOKUP(Operative_Fabio_Mencio!AA12,'RawData'!A:K,7,FALSE) -> 34226 | AG12: =INT(($AF$3-AF12)/365) -> 32 | AH12: =IF(AG12<$AH$3,"VERO") -> FALSE | AO12: 2623 | AP12: =VLOOKUP(AO12,'RawData'!A:K,8,FALSE) -> 1 | AQ12: =VLOOKUP(AO12,'RawData'!A:K,9,FALSE) -> Sì | AU12: 2623 | AV12: =VLOOKUP(AU12,'RawData'!A:K,11) -> No | AW12: =VLOOKUP(AU12,A:K,6,FALSE) -> 578 | AX12: 10 | BC12: 2623 | BD12: =VLOOKUP(BC12,'RawData'!A:K,11,FALSE) -> No | BE12: =VLOOKUP(BC12,A:K,6,FALSE) -> 578 | BM12: Acate | BO12: Catania | BP12: =VLOOKUP(BO12,BM:BM,1,FALSE) -> Catania
A13: 2789 | B13: Verona | C13: VR | D13: VEN | E13: 6 | F13: 961 | G13: 31939 | H13: 7 | I13: No | J13: Sì | K13: Sì | P13: VEN | Q13: =COUNTIF(D:D,P13) -> 18 | U13: 4433 | V13: =SUMIF('RawData'!A:A,Operative_Fabio_Mencio!U13,'RawData'!F:F) -> 584 | X13: =IF(V13>=$X$3,TRUE) -> TRUE | AA13: 4433 | AB13: =VLOOKUP(Operative_Fabio_Mencio!AA13,'RawData'!A:K,9,FALSE) -> No | AE13: 4433 | AF13: =VLOOKUP(Operative_Fabio_Mencio!AA13,'RawData'!A:K,7,FALSE) -> 28902 | AG13: =INT(($AF$3-AF13)/365) -> 47 | AH13: =IF(AG13<$AH$3,"VERO") -> FALSE | AO13: 2789 | AP13: =VLOOKUP(AO13,'RawData'!A:K,8,FALSE) -> 7 | AQ13: =VLOOKUP(AO13,'RawData'!A:K,9,FALSE) -> No | AU13: 2789 | AV13: =VLOOKUP(AU13,'RawData'!A:K,11) -> No | AW13: =VLOOKUP(AU13,A:K,6,FALSE) -> 961 | BC13: 2789 | BD13: =VLOOKUP(BC13,'RawData'!A:K,11,FALSE) -> Sì | BE13: =VLOOKUP(BC13,A:K,6,FALSE) -> 961 | BM13: Accadia | BO13: Venezia | BP13: =VLOOKUP(BO13,BM:BM,1,FALSE) -> Venezia
A14: 2793 | B14: Messina | C14: ME | D14: SIC | E14: 13 | F14: 313 | G14: 23450 | H14: 2 | I14: No | J14: No | K14: No | P14: FVG | Q14: =COUNTIF(D:D,P14) -> 6 | U14: 5411 | V14: =SUMIF('RawData'!A:A,Operative_Fabio_Mencio!U14,'RawData'!F:F) -> 446 | X14: =IF(V14>=$X$3,TRUE) -> FALSE | AA14: 5411 | AB14: =VLOOKUP(Operative_Fabio_Mencio!AA14,'RawData'!A:K,9,FALSE) -> Sì | AE14: 5411 | AF14: =VLOOKUP(Operative_Fabio_Mencio!AA14,'RawData'!A:K,7,FALSE) -> 20863 | AG14: =INT(($AF$3-AF14)/365) -> 69 | AH14: =IF(AG14<$AH$3,"VERO") -> FALSE | AO14: 2793 | AP14: =VLOOKUP(AO14,'RawData'!A:K,8,FALSE) -> 2 | AQ14: =VLOOKUP(AO14,'RawData'!A:K,9,FALSE) -> No | AU14: 2793 | AV14: =VLOOKUP(AU14,'RawData'!A:K,11) -> No | AW14: =VLOOKUP(AU14,A:K,6,FALSE) -> 313 | BC14: 2793 | BD14: =VLOOKUP(BC14,'RawData'!A:K,11,FALSE) -> No | BE14: =VLOOKUP(BC14,A:K,6,FALSE) -> 313 | BM14: Acceglio | BO14: Verona | BP14: =VLOOKUP(BO14,BM:BM,1,FALSE) -> Verona
A15: 3022 | B15: Padova | C15: PD | D15: VEN | E15: 12 | F15: 492 | G15: 28645 | H15: 1 | I15: Sì | J15: No | K15: Sì | P15: CAL | Q15: =COUNTIF(D:D,P15) -> 7 | U15: 2839 | V15: =SUMIF('RawData'!A:A,Operative_Fabio_Mencio!U15,'RawData'!F:F) -> 586 | X15: =IF(V15>=$X$3,TRUE) -> TRUE | AA15: 2839 | AB15: =VLOOKUP(Operative_Fabio_Mencio!AA15,'RawData'!A:K,9,FALSE) -> Sì | AE15: 2839 | AF15: =VLOOKUP(Operative_Fabio_Mencio!AA15,'RawData'!A:K,7,FALSE) -> 20162 | AG15: =INT(($AF$3-AF15)/365) -> 71 | AH15: =IF(AG15<$AH$3,"VERO") -> FALSE | AO15: 3022 | AP15: =VLOOKUP(AO15,'RawData'!A:K,8,FALSE) -> 1 | AQ15: =VLOOKUP(AO15,'RawData'!A:K,9,FALSE) -> Sì | AU15: 3022 | AV15: =VLOOKUP(AU15,'RawData'!A:K,11) -> No | AW15: =VLOOKUP(AU15,A:K,6,FALSE) -> 492 | BC15: 3022 | BD15: =VLOOKUP(BC15,'RawData'!A:K,11,FALSE) -> Sì | BE15: =VLOOKUP(BC15,A:K,6,FALSE) -> 492 | BM15: Accettura | BO15: Messina | BP15: =VLOOKUP(BO15,BM:BM,1,FALSE) -> Messina
A16: 3943 | B16: Trieste | C16: TS | D16: FVG | E16: 6 | F16: 571 | G16: 27802 | H16: 5 | I16: Sì | J16: Sì | K16: Sì | P16: UMB | Q16: =COUNTIF(D:D,P16) -> 5 | U16: 2623 | V16: =SUMIF('RawData'!A:A,Operative_Fabio_Mencio!U16,'RawData'!F:F) -> 578 | X16: =IF(V16>=$X$3,TRUE) -> TRUE | AA16: 2623 | AB16: =VLOOKUP(Operative_Fabio_Mencio!AA16,'RawData'!A:K,9,FALSE) -> Sì | AE16: 2623 | AF16: =VLOOKUP(Operative_Fabio_Mencio!AA16,'RawData'!A:K,7,FALSE) -> 30415 | AG16: =INT(($AF$3-AF16)/365) -> 43 | AH16: =IF(AG16<$AH$3,"VERO") -> FALSE | AO16: 3943 | AP16: =VLOOKUP(AO16,'RawData'!A:K,8,FALSE) -> 5 | AQ16: =VLOOKUP(AO16,'RawData'!A:K,9,FALSE) -> Sì | AU16: 3943 | AV16: =VLOOKUP(AU16,'RawData'!A:K,11) -> Sì | AW16: =VLOOKUP(AU16,A:K,6,FALSE) -> 571 | BC16: 3943 | BD16: =VLOOKUP(BC16,'RawData'!A:K,11,FALSE) -> Sì | BE16: =VLOOKUP(BC16,A:K,6,FALSE) -> 571 | BM16: Acciano | BO16: Padova | BP16: =VLOOKUP(BO16,BM:BM,1,FALSE) -> Padova
A17: 3783 | B17: Brescia | C17: BS | D17: LOM | E17: 6 | F17: 470 | G17: 31895 | H17: 2 | I17: No | J17: No | K17: No | P17: SAR | Q17: =COUNTIF(D:D,P17) -> 5 | U17: 2789 | V17: =SUMIF('RawData'!A:A,Operative_Fabio_Mencio!U17,'RawData'!F:F) -> 961 | X17: =IF(V17>=$X$3,TRUE) -> TRUE | AA17: 2789 | AB17: =VLOOKUP(Operative_Fabio_Mencio!AA17,'RawData'!A:K,9,FALSE) -> No | AE17: 2789 | AF17: =VLOOKUP(Operative_Fabio_Mencio!AA17,'RawData'!A:K,7,FALSE) -> 31939 | AG17: =INT(($AF$3-AF17)/365) -> 39 | AH17: =IF(AG17<$AH$3,"VERO") -> FALSE | AO17: 3783 | AP17: =VLOOKUP(AO17,'RawData'!A:K,8,FALSE) -> 2 | AQ17: =VLOOKUP(AO17,'RawData'!A:K,9,FALSE) -> No | AU17: 3783 | AV17: =VLOOKUP(AU17,'RawData'!A:K,11) -> Sì | AW17: =VLOOKUP(AU17,A:K,6,FALSE) -> 470 | BC17: 3783 | BD17: =VLOOKUP(BC17,'RawData'!A:K,11,FALSE) -> No | BE17: =VLOOKUP(BC17,A:K,6,FALSE) -> 470 | BM17: Accumoli | BO17: Trieste | BP17: =VLOOKUP(BO17,BM:BM,1,FALSE) -> Trieste
A18: 4951 | B18: Taranto | C18: TA | D18: PUG | E18: 1 | F18: 614 | G18: 25276 | H18: 4 | I18: No | J18: Sì | K18: Sì | P18: ABR | Q18: =COUNTIF(D:D,P18) -> 6 | U18: 2793 | V18: =SUMIF('RawData'!A:A,Operative_Fabio_Mencio!U18,'RawData'!F:F) -> 313 | X18: =IF(V18>=$X$3,TRUE) -> FALSE | AA18: 2793 | AB18: =VLOOKUP(Operative_Fabio_Mencio!AA18,'RawData'!A:K,9,FALSE) -> No | AE18: 2793 | AF18: =VLOOKUP(Operative_Fabio_Mencio!AA18,'RawData'!A:K,7,FALSE) -> 23450 | AG18: =INT(($AF$3-AF18)/365) -> 62 | AH18: =IF(AG18<$AH$3,"VERO") -> FALSE | AO18: 4951 | AP18: =VLOOKUP(AO18,'RawData'!A:K,8,FALSE) -> 4 | AQ18: =VLOOKUP(AO18,'RawData'!A:K,9,FALSE) -> No | AU18: 4951 | AV18: =VLOOKUP(AU18,'RawData'!A:K,11) -> Sì | AW18: =VLOOKUP(AU18,A:K,6,FALSE) -> 614 | BC18: 4951 | BD18: =VLOOKUP(BC18,'RawData'!A:K,11,FALSE) -> Sì | BE18: =VLOOKUP(BC18,A:K,6,FALSE) -> 614 | BM18: Acerenza | BO18: Brescia | BP18: =VLOOKUP(BO18,BM:BM,1,FALSE) -> Brescia
A19: 5356 | B19: Prato | C19: PO | D19: TOS | E19: 15 | F19: 833 | G19: 26631 | H19: 10 | I19: Sì | J19: Sì | K19: Sì | P19: TAA | Q19: =COUNTIF(D:D,P19) -> 4 | U19: 3022 | V19: =SUMIF('RawData'!A:A,Operative_Fabio_Mencio!U19,'RawData'!F:F) -> 1319 | X19: =IF(V19>=$X$3,TRUE) -> TRUE | AA19: 3022 | AB19: =VLOOKUP(Operative_Fabio_Mencio!AA19,'RawData'!A:K,9,FALSE) -> Sì | AE19: 3022 | AF19: =VLOOKUP(Operative_Fabio_Mencio!AA19,'RawData'!A:K,7,FALSE) -> 28645 | AG19: =INT(($AF$3-AF19)/365) -> 48 | AH19: =IF(AG19<$AH$3,"VERO") -> FALSE | AO19: 5356 | AP19: =VLOOKUP(AO19,'RawData'!A:K,8,FALSE) -> 10 | AQ19: =VLOOKUP(AO19,'RawData'!A:K,9,FALSE) -> Sì | AU19: 5356 | AV19: =VLOOKUP(AU19,'RawData'!A:K,11) -> Sì | AW19: =VLOOKUP(AU19,A:K,6,FALSE) -> 833 | BC19: 5356 | BD19: =VLOOKUP(BC19,'RawData'!A:K,11,FALSE) -> Sì | BE19: =VLOOKUP(BC19,A:K,6,FALSE) -> 833 | BM19: Acerno | BO19: Taranto | BP19: =VLOOKUP(BO19,BM:BM,1,FALSE) -> Taranto
A20: 5063 | B20: Parma | C20: PR | D20: EMR | E20: 13 | F20: 364 | G20: 21654 | H20: 4 | I20: No | J20: Sì | K20: Sì | P20: MAR | Q20: =COUNTIF(D:D,P20) -> 9 | U20: 3943 | V20: =SUMIF('RawData'!A:A,Operative_Fabio_Mencio!U20,'RawData'!F:F) -> 571 | X20: =IF(V20>=$X$3,TRUE) -> TRUE | AA20: 3943 | AB20: =VLOOKUP(Operative_Fabio_Mencio!AA20,'RawData'!A:K,9,FALSE) -> Sì | AE20: 3943 | AF20: =VLOOKUP(Operative_Fabio_Mencio!AA20,'RawData'!A:K,7,FALSE) -> 27802 | AG20: =INT(($AF$3-AF20)/365) -> 50 | AH20: =IF(AG20<$AH$3,"VERO") -> FALSE | AO20: 5063 | AP20: =VLOOKUP(AO20,'RawData'!A:K,8,FALSE) -> 4 | AQ20: =VLOOKUP(AO20,'RawData'!A:K,9,FALSE) -> No | AU20: 5063 | AV20: =VLOOKUP(AU20,'RawData'!A:K,11) -> Sì | AW20: =VLOOKUP(AU20,A:K,6,FALSE) -> 364 | BC20: 5063 | BD20: =VLOOKUP(BC20,'RawData'!A:K,11,FALSE) -> Sì | BE20: =VLOOKUP(BC20,A:K,6,FALSE) -> 364 | BM20: Acerra | BO20: Prato | BP20: =VLOOKUP(BO20,BM:BM,1,FALSE) -> Prato
A21: 4159 | B21: Reggio Calabria | C21: RC | D21: CAL | E21: 1 | F21: 196 | G21: 28252 | H21: 7 | I21: Sì | J21: No | K21: Sì | P21: MOL | Q21: =COUNTIF(D:D,P21) -> 1 | U21: 3783 | V21: =SUMIF('RawData'!A:A,Operative_Fabio_Mencio!U21,'RawData'!F:F) -> 470 | X21: =IF(V21>=$X$3,TRUE) -> FALSE | AA21: 3783 | AB21: =VLOOKUP(Operative_Fabio_Mencio!AA21,'RawData'!A:K,9,FALSE) -> No | AE21: 3783 | AF21: =VLOOKUP(Operative_Fabio_Mencio!AA21,'RawData'!A:K,7,FALSE) -> 31895 | AG21: =INT(($AF$3-AF21)/365) -> 39 | AH21: =IF(AG21<$AH$3,"VERO") -> FALSE | AO21: 4159 | AP21: =VLOOKUP(AO21,'RawData'!A:K,8,FALSE) -> 7 | AQ21: =VLOOKUP(AO21,'RawData'!A:K,9,FALSE) -> Sì | AU21: 4159 | AV21: =VLOOKUP(AU21,'RawData'!A:K,11) -> Sì | AW21: =VLOOKUP(AU21,A:K,6,FALSE) -> 196 | BC21: 4159 | BD21: =VLOOKUP(BC21,'RawData'!A:K,11,FALSE) -> Sì | BE21: =VLOOKUP(BC21,A:K,6,FALSE) -> 196 | BM21: Aci Bonaccorsi | BO21: Parma | BP21: =VLOOKUP(BO21,BM:BM,1,FALSE) -> Parma
A22: 5473 | B22: Modena | C22: MO | D22: EMR | E22: 1 | F22: 853 | G22: 22688 | H22: 1 | I22: No | J22: No | K22: No | P22: VDA | Q22: =COUNTIF(D:D,P22) -> 1 | U22: 4951 | V22: =SUMIF('RawData'!A:A,Operative_Fabio_Mencio!U22,'RawData'!F:F) -> 1071 | X22: =IF(V22>=$X$3,TRUE) -> TRUE | AA22: 4951 | AB22: =VLOOKUP(Operative_Fabio_Mencio!AA22,'RawData'!A:K,9,FALSE) -> No | AE22: 4951 | AF22: =VLOOKUP(Operative_Fabio_Mencio!AA22,'RawData'!A:K,7,FALSE) -> 25276 | AG22: =INT(($AF$3-AF22)/365) -> 57 | AH22: =IF(AG22<$AH$3,"VERO") -> FALSE | AO22: 5473 | AP22: =VLOOKUP(AO22,'RawData'!A:K,8,FALSE) -> 1 | AQ22: =VLOOKUP(AO22,'RawData'!A:K,9,FALSE) -> No | AU22: 5473 | AV22: =VLOOKUP(AU22,'RawData'!A:K,11) -> Sì | AW22: =VLOOKUP(AU22,A:K,6,FALSE) -> 853 | BC22: 5473 | BD22: =VLOOKUP(BC22,'RawData'!A:K,11,FALSE) -> No | BE22: =VLOOKUP(BC22,A:K,6,FALSE) -> 853 | BM22: Aci Castello | BO22: Reggio Calabria | BP22: =VLOOKUP(BO22,BM:BM,1,FALSE) -> Reggio Calabria
A23: 3028 | B23: Reggio Emilia | C23: RE | D23: EMR | E23: 12 | F23: 650 | G23: 30900 | H23: 9 | I23: Sì | J23: Sì | K23: Sì | P23: 0 | U23: 5356 | V23: =SUMIF('RawData'!A:A,Operative_Fabio_Mencio!U23,'RawData'!F:F) -> 833 | X23: =IF(V23>=$X$3,TRUE) -> TRUE | AA23: 5356 | AB23: =VLOOKUP(Operative_Fabio_Mencio!AA23,'RawData'!A:K,9,FALSE) -> Sì | AE23: 5356 | AF23: =VLOOKUP(Operative_Fabio_Mencio!AA23,'RawData'!A:K,7,FALSE) -> 26631 | AG23: =INT(($AF$3-AF23)/365) -> 53 | AH23: =IF(AG23<$AH$3,"VERO") -> FALSE | AO23: 3028 | AP23: =VLOOKUP(AO23,'RawData'!A:K,8,FALSE) -> 9 | AQ23: =VLOOKUP(AO23,'RawData'!A:K,9,FALSE) -> Sì | AU23: 3028 | AV23: =VLOOKUP(AU23,'RawData'!A:K,11) -> No | AW23: =VLOOKUP(AU23,A:K,6,FALSE) -> 650 | BC23: 3028 | BD23: =VLOOKUP(BC23,'RawData'!A:K,11,FALSE) -> Sì | BE23: =VLOOKUP(BC23,A:K,6,FALSE) -> 650 | BM23: Aci Catena | BO23: Modena | BP23: =VLOOKUP(BO23,BM:BM,1,FALSE) -> Modena | BQ23: Reggio Emilia
A24: 3071 | B24: Perugia | C24: PG | D24: UMB | E24: 2 | F24: 809 | G24: 29934 | H24: 7 | I24: Sì | J24: Sì | K24: Sì | U24: 5063 | V24: =SUMIF('RawData'!A:A,Operative_Fabio_Mencio!U24,'RawData'!F:F) -> 364 | X24: =IF(V24>=$X$3,TRUE) -> FALSE | AA24: 5063 | AB24: =VLOOKUP(Operative_Fabio_Mencio!AA24,'RawData'!A:K,9,FALSE) -> No | AE24: 5063 | AF24: =VLOOKUP(Operative_Fabio_Mencio!AA24,'RawData'!A:K,7,FALSE) -> 21654 | AG24: =INT(($AF$3-AF24)/365) -> 67 | AH24: =IF(AG24<$AH$3,"VERO") -> FALSE | AO24: 3071 | AP24: =VLOOKUP(AO24,'RawData'!A:K,8,FALSE) -> 7 | AQ24: =VLOOKUP(AO24,'RawData'!A:K,9,FALSE) -> Sì | AU24: 3071 | AV24: =VLOOKUP(AU24,'RawData'!A:K,11) -> No | AW24: =VLOOKUP(AU24,A:K,6,FALSE) -> 809 | BC24: 3071 | BD24: =VLOOKUP(BC24,'RawData'!A:K,11,FALSE) -> Sì | BE24: =VLOOKUP(BC24,A:K,6,FALSE) -> 809 | BM24: Aci Sant'Antonio | BO24: Reggio Emilia | BP24: =VLOOKUP(BO24,BM:BM,1,FALSE) -> Reggio Emilia
A25: 5592 | B25: Livorno | C25: LI | D25: TOS | E25: 3 | F25: 71 | G25: 33488 | H25: 3 | I25: Sì | J25: No | K25: No | U25: 4159 | V25: =SUMIF('RawData'!A:A,Operative_Fabio_Mencio!U25,'RawData'!F:F) -> 196 | X25: =IF(V25>=$X$3,TRUE) -> FALSE | AA25: 4159 | AB25: =VLOOKUP(Operative_Fabio_Mencio!AA25,'RawData'!A:K,9,FALSE) -> Sì | AE25: 4159 | AF25: =VLOOKUP(Operative_Fabio_Mencio!AA25,'RawData'!A:K,7,FALSE) -> 28252 | AG25: =INT(($AF$3-AF25)/365) -> 49 | AH25: =IF(AG25<$AH$3,"VERO") -> FALSE | AO25: 5592 | AP25: =VLOOKUP(AO25,'RawData'!A:K,8,FALSE) -> 3 | AQ25: =VLOOKUP(AO25,'RawData'!A:K,9,FALSE) -> Sì | AU25: 5592 | AV25: =VLOOKUP(AU25,'RawData'!A:K,11) -> Sì | AW25: =VLOOKUP(AU25,A:K,6,FALSE) -> 71 | BC25: 5592 | BD25: =VLOOKUP(BC25,'RawData'!A:K,11,FALSE) -> No | BE25: =VLOOKUP(BC25,A:K,6,FALSE) -> 71 | BM25: Acireale | BO25: Perugia | BP25: =VLOOKUP(BO25,BM:BM,1,FALSE) -> Perugia | BQ25: Corigliano Calabro
A26: 3573 | B26: Ravenna | C26: RA | D26: EMR | E26: 2 | F26: 38 | G26: 27002 | H26: 7 | I26: Sì | J26: No | K26: Sì | U26: 5473 | V26: =SUMIF('RawData'!A:A,Operative_Fabio_Mencio!U26,'RawData'!F:F) -> 853 | X26: =IF(V26>=$X$3,TRUE) -> TRUE | AA26: 5473 | AB26: =VLOOKUP(Operative_Fabio_Mencio!AA26,'RawData'!A:K,9,FALSE) -> No | AE26: 5473 | AF26: =VLOOKUP(Operative_Fabio_Mencio!AA26,'RawData'!A:K,7,FALSE) -> 22688 | AG26: =INT(($AF$3-AF26)/365) -> 64 | AH26: =IF(AG26<$AH$3,"VERO") -> FALSE | AO26: 3573 | AP26: =VLOOKUP(AO26,'RawData'!A:K,8,FALSE) -> 7 | AQ26: =VLOOKUP(AO26,'RawData'!A:K,9,FALSE) -> Sì | AU26: 3573 | AV26: =VLOOKUP(AU26,'RawData'!A:K,11) -> Sì | AW26: =VLOOKUP(AU26,A:K,6,FALSE) -> 38 | BC26: 3573 | BD26: =VLOOKUP(BC26,'RawData'!A:K,11,FALSE) -> Sì | BE26: =VLOOKUP(BC26,A:K,6,FALSE) -> 38 | BM26: Acquafondata | BO26: Livorno | BP26: =VLOOKUP(BO26,BM:BM,1,FALSE) -> Livorno | BQ26: Rossano
A27: 2681 | B27: Cagliari | C27: CA | D27: SAR | E27: 2 | F27: 802 | G27: 30796 | H27: 2 | I27: No | J27: Sì | K27: Sì | P27: risposta 5 | U27: 3028 | V27: =SUMIF('RawData'!A:A,Operative_Fabio_Mencio!U27,'RawData'!F:F) -> 1584 | X27: =IF(V27>=$X$3,TRUE) -> TRUE | AA27: 3028 | AB27: =VLOOKUP(Operative_Fabio_Mencio!AA27,'RawData'!A:K,9,FALSE) -> Sì | AE27: 3028 | AF27: =VLOOKUP(Operative_Fabio_Mencio!AA27,'RawData'!A:K,7,FALSE) -> 30900 | AG27: =INT(($AF$3-AF27)/365) -> 41 | AH27: =IF(AG27<$AH$3,"VERO") -> FALSE | AO27: 2681 | AP27: =VLOOKUP(AO27,'RawData'!A:K,8,FALSE) -> 2 | AQ27: =VLOOKUP(AO27,'RawData'!A:K,9,FALSE) -> No | AU27: 2681 | AV27: =VLOOKUP(AU27,'RawData'!A:K,11) -> No | AW27: =VLOOKUP(AU27,A:K,6,FALSE) -> 802 | BC27: 2681 | BD27: =VLOOKUP(BC27,'RawData'!A:K,11,FALSE) -> Sì | BE27: =VLOOKUP(BC27,A:K,6,FALSE) -> 802 | BM27: Acquaformosa | BO27: Ravenna | BP27: =VLOOKUP(BO27,BM:BM,1,FALSE) -> Ravenna
A28: 4736 | B28: Foggia | C28: FG | D28: PUG | E28: 10 | F28: 387 | G28: 26011 | H28: 7 | I28: No | J28: No | K28: Sì | U28: 3071 | V28: =SUMIF('RawData'!A:A,Operative_Fabio_Mencio!U28,'RawData'!F:F) -> 1515 | X28: =IF(V28>=$X$3,TRUE) -> TRUE | AA28: 3071 | AB28: =VLOOKUP(Operative_Fabio_Mencio!AA28,'RawData'!A:K,9,FALSE) -> Sì | AE28: 3071 | AF28: =VLOOKUP(Operative_Fabio_Mencio!AA28,'RawData'!A:K,7,FALSE) -> 29934 | AG28: =INT(($AF$3-AF28)/365) -> 44 | AH28: =IF(AG28<$AH$3,"VERO") -> FALSE | AO28: 4736 | AP28: =VLOOKUP(AO28,'RawData'!A:K,8,FALSE) -> 7 | AQ28: =VLOOKUP(AO28,'RawData'!A:K,9,FALSE) -> No | AU28: 4736 | AV28: =VLOOKUP(AU28,'RawData'!A:K,11) -> Sì | AW28: =VLOOKUP(AU28,A:K,6,FALSE) -> 387 | BC28: 4736 | BD28: =VLOOKUP(BC28,'RawData'!A:K,11,FALSE) -> Sì | BE28: =VLOOKUP(BC28,A:K,6,FALSE) -> 387 | BM28: Acquafredda | BO28: Cagliari | BP28: =VLOOKUP(BO28,BM:BM,1,FALSE) -> Cagliari
A29: 4396 | B29: Rimini | C29: RN | D29: EMR | E29: 1 | F29: 953 | G29: 20605 | H29: 3 | I29: Sì | J29: Sì | K29: Sì | U29: 5592 | V29: =SUMIF('RawData'!A:A,Operative_Fabio_Mencio!U29,'RawData'!F:F) -> 474 | X29: =IF(V29>=$X$3,TRUE) -> FALSE | AA29: 5592 | AB29: =VLOOKUP(Operative_Fabio_Mencio!AA29,'RawData'!A:K,9,FALSE) -> Sì | AE29: 5592 | AF29: =VLOOKUP(Operative_Fabio_Mencio!AA29,'RawData'!A:K,7,FALSE) -> 33488 | AG29: =INT(($AF$3-AF29)/365) -> 34 | AH29: =IF(AG29<$AH$3,"VERO") -> FALSE | AO29: 4396 | AP29: =VLOOKUP(AO29,'RawData'!A:K,8,FALSE) -> 3 | AQ29: =VLOOKUP(AO29,'RawData'!A:K,9,FALSE) -> Sì | AU29: 4396 | AV29: =VLOOKUP(AU29,'RawData'!A:K,11) -> Sì | AW29: =VLOOKUP(AU29,A:K,6,FALSE) -> 953 | BC29: 4396 | BD29: =VLOOKUP(BC29,'RawData'!A:K,11,FALSE) -> Sì | BE29: =VLOOKUP(BC29,A:K,6,FALSE) -> 953 | BM29: Acqualagna | BO29: Foggia | BP29: =VLOOKUP(BO29,BM:BM,1,FALSE) -> Foggia
A30: 4657 | B30: Salerno | C30: SA | D30: CAM | E30: 5 | F30: 95 | G30: 30572 | H30: 2 | I30: Sì | J30: No | K30: No | P30: {=_xlfn._xlws.FILTER(A2:C301, COUNTIF(B2:B301, B2:B301)=1)} -> 2839 | Q30: 138 | R30: CT | U30: 3573 | V30: =SUMIF('RawData'!A:A,Operative_Fabio_Mencio!U30,'RawData'!F:F) -> 38 | X30: =IF(V30>=$X$3,TRUE) -> FALSE | AA30: 3573 | AB30: =VLOOKUP(Operative_Fabio_Mencio!AA30,'RawData'!A:K,9,FALSE) -> Sì | AE30: 3573 | AF30: =VLOOKUP(Operative_Fabio_Mencio!AA30,'RawData'!A:K,7,FALSE) -> 27002 | AG30: =INT(($AF$3-AF30)/365) -> 52 | AH30: =IF(AG30<$AH$3,"VERO") -> FALSE | AO30: 3475 | AP30: =VLOOKUP(AO30,'RawData'!A:K,8,FALSE) -> 2 | AQ30: =VLOOKUP(AO30,'RawData'!A:K,9,FALSE) -> Sì | AU30: 3475 | AV30: =VLOOKUP(AU30,'RawData'!A:K,11) -> Sì | AW30: =VLOOKUP(AU30,A:K,6,FALSE) -> 582 | BC30: 3475 | BD30: =VLOOKUP(BC30,'RawData'!A:K,11,FALSE) -> No | BE30: =VLOOKUP(BC30,A:K,6,FALSE) -> 582 | BM30: Acquanegra Cremonese | BO30: Rimini | BP30: =VLOOKUP(BO30,BM:BM,1,FALSE) -> Rimini
A31: 3475 | B31: Ferrara | C31: FE | D31: EMR | E31: 10 | F31: 582 | G31: 34722 | H31: 2 | I31: Sì | J31: Sì | K31: No | P31: 2623 | Q31: 0 0 | R31: VE | U31: 2681 | V31: =SUMIF('RawData'!A:A,Operative_Fabio_Mencio!U31,'RawData'!F:F) -> 802 | X31: =IF(V31>=$X$3,TRUE) -> TRUE | AA31: 2681 | AB31: =VLOOKUP(Operative_Fabio_Mencio!AA31,'RawData'!A:K,9,FALSE) -> No | AE31: 2681 | AF31: =VLOOKUP(Operative_Fabio_Mencio!AA31,'RawData'!A:K,7,FALSE) -> 30796 | AG31: =INT(($AF$3-AF31)/365) -> 42 | AH31: =IF(AG31<$AH$3,"VERO") -> FALSE | AO31: 3681 | AP31: =VLOOKUP(AO31,'RawData'!A:K,8,FALSE) -> 6 | AQ31: =VLOOKUP(AO31,'RawData'!A:K,9,FALSE) -> No | AU31: 3681 | AV31: =VLOOKUP(AU31,'RawData'!A:K,11) -> Sì | AW31: =VLOOKUP(AU31,A:K,6,FALSE) -> 933 | BC31: 3681 | BD31: =VLOOKUP(BC31,'RawData'!A:K,11,FALSE) -> No | BE31: =VLOOKUP(BC31,A:K,6,FALSE) -> 933 | BM31: Acquanegra sul Chiese | BO31: Salerno | BP31: =VLOOKUP(BO31,BM:BM,1,FALSE) -> Salerno
A32: 3681 | B32: Sassari | C32: SS | D32: SAR | E32: 13 | F32: 933 | G32: 23968 | H32: 6 | I32: No | J32: Sì | K32: No | P32: 4396 | Q32: Rimini | R32: RN | U32: 4736 | V32: =SUMIF('RawData'!A:A,Operative_Fabio_Mencio!U32,'RawData'!F:F) -> 387 | X32: =IF(V32>=$X$3,TRUE) -> FALSE | AA32: 4736 | AB32: =VLOOKUP(Operative_Fabio_Mencio!AA32,'RawData'!A:K,9,FALSE) -> No | AE32: 4736 | AF32: =VLOOKUP(Operative_Fabio_Mencio!AA32,'RawData'!A:K,7,FALSE) -> 26011 | AG32: =INT(($AF$3-AF32)/365) -> 55 | AH32: =IF(AG32<$AH$3,"VERO") -> FALSE | AO32: 4150 | AP32: =VLOOKUP(AO32,'RawData'!A:K,8,FALSE) -> 1 | AQ32: =VLOOKUP(AO32,'RawData'!A:K,9,FALSE) -> No | AU32: 4150 | AV32: =VLOOKUP(AU32,'RawData'!A:K,11) -> Sì | AW32: =VLOOKUP(AU32,A:K,6,FALSE) -> 427 | BC32: 4150 | BD32: =VLOOKUP(BC32,'RawData'!A:K,11,FALSE) -> No | BE32: =VLOOKUP(BC32,A:K,6,FALSE) -> 427 | BM32: Acquapendente | BO32: Ferrara | BP32: =VLOOKUP(BO32,BM:BM,1,FALSE) -> Ferrara
A33: 4150 | B33: Siracusa | C33: SR | D33: SIC | E33: 1 | F33: 427 | G33: 29010 | H33: 1 | I33: No | J33: Sì | K33: No | P33: 4657 | Q33: Salerno | R33: SA | U33: 4396 | V33: =SUMIF('RawData'!A:A,Operative_Fabio_Mencio!U33,'RawData'!F:F) -> 953 | X33: =IF(V33>=$X$3,TRUE) -> TRUE | AA33: 4396 | AB33: =VLOOKUP(Operative_Fabio_Mencio!AA33,'RawData'!A:K,9,FALSE) -> Sì | AE33: 4396 | AF33: =VLOOKUP(Operative_Fabio_Mencio!AA33,'RawData'!A:K,7,FALSE) -> 20605 | AG33: =INT(($AF$3-AF33)/365) -> 70 | AH33: =IF(AG33<$AH$3,"VERO") -> FALSE | AO33: 4561 | AP33: =VLOOKUP(AO33,'RawData'!A:K,8,FALSE) -> 9 | AQ33: =VLOOKUP(AO33,'RawData'!A:K,9,FALSE) -> No | AU33: 4561 | AV33: =VLOOKUP(AU33,'RawData'!A:K,11) -> Sì | AW33: =VLOOKUP(AU33,A:K,6,FALSE) -> 445 | BC33: 4561 | BD33: =VLOOKUP(BC33,'RawData'!A:K,11,FALSE) -> Sì | BE33: =VLOOKUP(BC33,A:K,6,FALSE) -> 445 | BM33: Acquappesa | BO33: Sassari | BP33: =VLOOKUP(BO33,BM:BM,1,FALSE) -> Sassari
A34: 4561 | B34: Pescara | C34: PE | D34: ABR | E34: 5 | F34: 445 | G34: 30296 | H34: 9 | I34: No | J34: Sì | K34: Sì | P34: 3475 | Q34: Ferrara | R34: FE | U34: 3475 | V34: =SUMIF('RawData'!A:A,Operative_Fabio_Mencio!U34,'RawData'!F:F) -> 582 | X34: =IF(V34>=$X$3,TRUE) -> TRUE | AA34: 3475 | AB34: =VLOOKUP(Operative_Fabio_Mencio!AA34,'RawData'!A:K,9,FALSE) -> Sì | AE34: 3475 | AF34: =VLOOKUP(Operative_Fabio_Mencio!AA34,'RawData'!A:K,7,FALSE) -> 34722 | AG34: =INT(($AF$3-AF34)/365) -> 31 | AH34: =IF(AG34<$AH$3,"VERO") -> FALSE | AO34: 4661 | AP34: =VLOOKUP(AO34,'RawData'!A:K,8,FALSE) -> 7 | AQ34: =VLOOKUP(AO34,'RawData'!A:K,9,FALSE) -> Sì | AU34: 4661 | AV34: =VLOOKUP(AU34,'RawData'!A:K,11) -> Sì | AW34: =VLOOKUP(AU34,A:K,6,FALSE) -> 655 | BC34: 4661 | BD34: =VLOOKUP(BC34,'RawData'!A:K,11,FALSE) -> No | BE34: =VLOOKUP(BC34,A:K,6,FALSE) -> 655 | BM34: Acquaro | BO34: Siracusa | BP34: =VLOOKUP(BO34,BM:BM,1,FALSE) -> Siracusa
A35: 4661 | B35: Monza | C35: MB | D35: LOM | E35: 2 | F35: 655 | G35: 30731 | H35: 7 | I35: Sì | J35: No | K35: No | P35: 3681 | Q35: Sassari | R35: SS | U35: 3681 | V35: =SUMIF('RawData'!A:A,Operative_Fabio_Mencio!U35,'RawData'!F:F) -> 933 | X35: =IF(V35>=$X$3,TRUE) -> TRUE | AA35: 3681 | AB35: =VLOOKUP(Operative_Fabio_Mencio!AA35,'RawData'!A:K,9,FALSE) -> No | AE35: 3681 | AF35: =VLOOKUP(Operative_Fabio_Mencio!AA35,'RawData'!A:K,7,FALSE) -> 23968 | AG35: =INT(($AF$3-AF35)/365) -> 60 | AH35: =IF(AG35<$AH$3,"VERO") -> FALSE | AO35: 3394 | AP35: =VLOOKUP(AO35,'RawData'!A:K,8,FALSE) -> 1 | AQ35: =VLOOKUP(AO35,'RawData'!A:K,9,FALSE) -> No | AU35: 3394 | AV35: =VLOOKUP(AU35,'RawData'!A:K,11) -> Sì | AW35: =VLOOKUP(AU35,A:K,6,FALSE) -> 312 | BC35: 3394 | BD35: =VLOOKUP(BC35,'RawData'!A:K,11,FALSE) -> No | BE35: =VLOOKUP(BC35,A:K,6,FALSE) -> 312 | BM35: Acquasanta Terme | BO35: Pescara | BP35: =VLOOKUP(BO35,BM:BM,1,FALSE) -> Pescara
A36: 3394 | B36: Latina | C36: LT | D36: LAZ | E36: 14 | F36: 312 | G36: 31836 | H36: 1 | I36: No | J36: No | K36: No | P36: 4150 | Q36: Siracusa | R36: SR | U36: 4150 | V36: =SUMIF('RawData'!A:A,Operative_Fabio_Mencio!U36,'RawData'!F:F) -> 427 | X36: =IF(V36>=$X$3,TRUE) -> FALSE | AA36: 4150 | AB36: =VLOOKUP(Operative_Fabio_Mencio!AA36,'RawData'!A:K,9,FALSE) -> No | AE36: 4150 | AF36: =VLOOKUP(Operative_Fabio_Mencio!AA36,'RawData'!A:K,7,FALSE) -> 29010 | AG36: =INT(($AF$3-AF36)/365) -> 47 | AH36: =IF(AG36<$AH$3,"VERO") -> FALSE | AO36: 3717 | AP36: =VLOOKUP(AO36,'RawData'!A:K,8,FALSE) -> 10 | AQ36: =VLOOKUP(AO36,'RawData'!A:K,9,FALSE) -> Sì | AU36: 3717 | AV36: =VLOOKUP(AU36,'RawData'!A:K,11) -> Sì | AW36: =VLOOKUP(AU36,A:K,6,FALSE) -> 518 | BC36: 3717 | BD36: =VLOOKUP(BC36,'RawData'!A:K,11,FALSE) -> No | BE36: =VLOOKUP(BC36,A:K,6,FALSE) -> 518 | BM36: Acquasparta | BO36: Monza | BP36: =VLOOKUP(BO36,BM:BM,1,FALSE) -> Monza
A37: 3717 | B37: Bergamo | C37: BG | D37: LOM | E37: 11 | F37: 518 | G37: 25868 | H37: 10 | I37: Sì | J37: Sì | K37: No | P37: 4561 | Q37: Pescara | R37: PE | U37: 4561 | V37: =SUMIF('RawData'!A:A,Operative_Fabio_Mencio!U37,'RawData'!F:F) -> 445 | X37: =IF(V37>=$X$3,TRUE) -> FALSE | AA37: 4561 | AB37: =VLOOKUP(Operative_Fabio_Mencio!AA37,'RawData'!A:K,9,FALSE) -> No | AE37: 4561 | AF37: =VLOOKUP(Operative_Fabio_Mencio!AA37,'RawData'!A:K,7,FALSE) -> 30296 | AG37: =INT(($AF$3-AF37)/365) -> 43 | AH37: =IF(AG37<$AH$3,"VERO") -> FALSE | AO37: 4938 | AP37: =VLOOKUP(AO37,'RawData'!A:K,8,FALSE) -> 7 | AQ37: =VLOOKUP(AO37,'RawData'!A:K,9,FALSE) -> Sì | AU37: 4938 | AV37: =VLOOKUP(AU37,'RawData'!A:K,11) -> Sì | AW37: =VLOOKUP(AU37,A:K,6,FALSE) -> 589 | BC37: 4938 | BD37: =VLOOKUP(BC37,'RawData'!A:K,11,FALSE) -> No | BE37: =VLOOKUP(BC37,A:K,6,FALSE) -> 589 | BM37: Acquaviva Collecroce | BO37: Latina | BP37: =VLOOKUP(BO37,BM:BM,1,FALSE) -> Latina
A38: 4938 | B38: Forlì | C38: FC | D38: EMR | E38: 13 | F38: 589 | G38: 34765 | H38: 7 | I38: Sì | J38: Sì | K38: No | P38: 4661 | Q38: Monza | R38: MB | U38: 4661 | V38: =SUMIF('RawData'!A:A,Operative_Fabio_Mencio!U38,'RawData'!F:F) -> 655 | X38: =IF(V38>=$X$3,TRUE) -> TRUE | AA38: 4661 | AB38: =VLOOKUP(Operative_Fabio_Mencio!AA38,'RawData'!A:K,9,FALSE) -> Sì | AE38: 4661 | AF38: =VLOOKUP(Operative_Fabio_Mencio!AA38,'RawData'!A:K,7,FALSE) -> 30731 | AG38: =INT(($AF$3-AF38)/365) -> 42 | AH38: =IF(AG38<$AH$3,"VERO") -> FALSE | AO38: 4332 | AP38: =VLOOKUP(AO38,'RawData'!A:K,8,FALSE) -> 4 | AQ38: =VLOOKUP(AO38,'RawData'!A:K,9,FALSE) -> No | AU38: 4332 | AV38: =VLOOKUP(AU38,'RawData'!A:K,11) -> Sì | AW38: =VLOOKUP(AU38,A:K,6,FALSE) -> 365 | BC38: 4332 | BD38: =VLOOKUP(BC38,'RawData'!A:K,11,FALSE) -> Sì | BE38: =VLOOKUP(BC38,A:K,6,FALSE) -> 365 | BM38: Acquaviva d'Isernia | BO38: Bergamo | BP38: =VLOOKUP(BO38,BM:BM,1,FALSE) -> Bergamo
A39: 4332 | B39: Giugliano in Campania | C39: NA | D39: CAM | E39: 9 | F39: 365 | G39: 28930 | H39: 4 | I39: No | J39: Sì | K39: Sì | P39: 3394 | Q39: Latina | R39: LT | U39: 3394 | V39: =SUMIF('RawData'!A:A,Operative_Fabio_Mencio!U39,'RawData'!F:F) -> 312 | X39: =IF(V39>=$X$3,TRUE) -> FALSE | AA39: 3394 | AB39: =VLOOKUP(Operative_Fabio_Mencio!AA39,'RawData'!A:K,9,FALSE) -> No | AE39: 3394 | AF39: =VLOOKUP(Operative_Fabio_Mencio!AA39,'RawData'!A:K,7,FALSE) -> 31836 | AG39: =INT(($AF$3-AF39)/365) -> 39 | AH39: =IF(AG39<$AH$3,"VERO") -> FALSE | AO39: 2532 | AP39: =VLOOKUP(AO39,'RawData'!A:K,8,FALSE) -> 4 | AQ39: =VLOOKUP(AO39,'RawData'!A:K,9,FALSE) -> Sì | AU39: 2532 | AV39: =VLOOKUP(AU39,'RawData'!A:K,11) -> No | AW39: =VLOOKUP(AU39,A:K,6,FALSE) -> 353 | BC39: 2532 | BD39: =VLOOKUP(BC39,'RawData'!A:K,11,FALSE) -> Sì | BE39: =VLOOKUP(BC39,A:K,6,FALSE) -> 353 | BM39: Acquaviva delle Fonti | BO39: Forlì | BP39: =VLOOKUP(BO39,BM:BM,1,FALSE) -> Forlì
A40: 2532 | B40: Trento | C40: TN | D40: TAA | E40: 13 | F40: 353 | G40: 29038 | H40: 4 | I40: Sì | J40: No | K40: Sì | P40: 3717 | Q40: Bergamo | R40: BG | U40: 3717 | V40: =SUMIF('RawData'!A:A,Operative_Fabio_Mencio!U40,'RawData'!F:F) -> 518 | X40: =IF(V40>=$X$3,TRUE) -> TRUE | AA40: 3717 | AB40: =VLOOKUP(Operative_Fabio_Mencio!AA40,'RawData'!A:K,9,FALSE) -> Sì | AE40: 3717 | AF40: =VLOOKUP(Operative_Fabio_Mencio!AA40,'RawData'!A:K,7,FALSE) -> 25868 | AG40: =INT(($AF$3-AF40)/365) -> 55 | AH40: =IF(AG40<$AH$3,"VERO") -> FALSE | AO40: 5477 | AP40: =VLOOKUP(AO40,'RawData'!A:K,8,FALSE) -> 8 | AQ40: =VLOOKUP(AO40,'RawData'!A:K,9,FALSE) -> Sì | AU40: 5477 | AV40: =VLOOKUP(AU40,'RawData'!A:K,11) -> Sì | AW40: =VLOOKUP(AU40,A:K,6,FALSE) -> 787 | BC40: 5477 | BD40: =VLOOKUP(BC40,'RawData'!A:K,11,FALSE) -> Sì | BE40: =VLOOKUP(BC40,A:K,6,FALSE) -> 787 | BM40: Acquaviva Picena | BO40: Giugliano in Campania | BP40: =VLOOKUP(BO40,BM:BM,1,FALSE) -> Giugliano in Campania
...

Sheet Test
A1: 1. Crea una copia dello sheet "Raw Data" e rinominalo "Operative_TuoNome_TuoCognome" il file raw servirà nel caso per sbaglio durante l'esercizio si cancellasse qualche dato erroneamente. Mentre le funzioni saranno da applicare al 2° Sheet. Se devi creare delle pivot sviluppale nell'apposito sheet.
A3: Domande | B3: Risposta | C3: Processo in breve (max 20 parole) | D3: contaparole
A4: 1. Quanti ID - Attività ci sono (colonna A)? | B4: =(COUNTA('RawData'!A:A))-1 -> 300 | C4: verificato il formato dati,ho utilizzato CONTA.VALORI nella colonna ID - Attività, scalando di 1 unità per escludere l'intestazione. | D4: =IF(TRIM(C4)="",0,LEN(TRIM(C4))-LEN(SUBSTITUTE(TRIM(C4)," ",""))+1) -> 18
A5: 2. Quanti ID - Attività uniche ci sono (colonna A)? | B5: =COUNT(_xlfn.UNIQUE('RawData'!A:A)) -> 284 | C5: Ho utilizzato la funzione UNICI per eliminare gli ID attività doppioni sulla colonna A:A annidata dentro la funzione CONTA NUMERI | D5: =IF(TRIM(C5)="",0,LEN(TRIM(C5))-LEN(SUBSTITUTE(TRIM(C5)," ",""))+1) -> 20
A6: 3. Quante attività commerciali sono in Lombardia? (Contiamo gli ID - Attività unici in Lombardia) | B6: {=COUNT(_xlfn.UNIQUE(_xlfn.CHOOSECOLS((_xlfn._xlws.FILTER('RawData'!A:K,'RawData'!D:D="LOM")),1)))} -> 55 | C6: ho filtrato Regione = LOM,ho estratto la prima colonna con gli ID Attività, tolto i doppioni e fatto conta elementi, trovata la città, usato confronta per trovare posizione | D6: =IF(TRIM(C6)="",0,LEN(TRIM(C6))-LEN(SUBSTITUTE(TRIM(C6)," ",""))+1) -> 28
A7: 4. Quale regione ha il maggior numero di attività aderenti? (In questo caso consideriamo gli ID - Attività a prescindere che siano unici) | B7: =Operative_Fabio_Mencio!S4 -> LOM | C7: Creato tabella supporto estratto quali Regioni avessero aderito, con UNICI. CONTA.SE per il tot occorrenze nell'elenco,poi annidamento CERCA.X((MAX()). | D7: =IF(TRIM(C7)="",0,LEN(TRIM(C7))-LEN(SUBSTITUTE(TRIM(C7)," ",""))+1) -> 18
A8: 5. Nella colonna delle città una, citata più volte in modo corretto, è scritta in modo errato. Quale? In che riga si trova? | B8: =CONCATENATE("La città è : ", Operative_Fabio_Mencio!BO65, ", ", "si trova alla riga: ",Operative_Fabio_Mencio!BQ65) -> La città è : Molano, si trova alla riga: 115 | C8: UNICI per città, CERCAVERT per confronto con elenco città Italiane, trovata la città, usato CONFRONTA per trovare la posizione. | D8: =IF(TRIM(C8)="",0,LEN(TRIM(C8))-LEN(SUBSTITUTE(TRIM(C8)," ",""))+1) -> 19
A9: 6. Quante attività hanno salvato più di 500kg di cibo? (ID - Attività considerando in modo aggregato i risultati se presente in più record) | B9: =Operative_Fabio_Mencio!Y6 -> 147 | C9: UNICI per raggruppare ID attività, SOMMA.SE che restituisce kg per ID attività,SE tot kg per ID Attività >500,VERO allora CONTA.SE | D9: =IF(TRIM(C9)="",0,LEN(TRIM(C9))-LEN(SUBSTITUTE(TRIM(C9)," ",""))+1) -> 20
A10: 7. Quale attività è riuscita ad evitare di gettare più kg di cibo? (ID - Attività considerando in modo aggregato i risultati se presente in più record) | B10: =Operative_Fabio_Mencio!W5 -> 3028 | C10: Ho utilizzato la funzione unici per raggruppare ID attività, usato SOMMA.SE che restituisce il totale per ID attività,poi annidamento CERCA.X((MAX()). | D10: =IF(TRIM(C10)="",0,LEN(TRIM(C10))-LEN(SUBSTITUTE(TRIM(C10)," ",""))+1) -> 20
A11: 8. Quante attività hanno l'iscrizione alla piattaforma premium attiva? (colonna I) | B11: =Operative_Fabio_Mencio!AC6 -> 138 | C11: UNICI per raggruppare ID attività, CERCAVERT che restituisce i valore della colonna I;CONTA.SE() sulla nuova colonna Premium | D11: =IF(TRIM(C11)="",0,LEN(TRIM(C11))-LEN(SUBSTITUTE(TRIM(C11)," ",""))+1) -> 17
A12: 9. Quante attività hanno un proprietario con meno di 30 anni? Qual è la percentuale sul totale? (Calcolare la data al giorno in cui si effettua il test, non solo anno in corso) | B12: =CONCATENATE("n. under 30:",Operative_Fabio_Mencio!AI6,",", " percentuale sul totale %", " ",Operative_Fabio_Mencio!AK6) -> n. under 30:0, percentuale sul totale % 0 | C12: data nascita CERCA.VERT su colonna I,OGGI, diff e approx per età, SE con <30, CONTA.SE >30, % sul tot. | D12: =IF(TRIM(C12)="",0,LEN(TRIM(C12))-LEN(SUBSTITUTE(TRIM(C12)," ",""))+1) -> 19
A13: 10. Quante ID - Attività hanno una valutazione superiore a 6? Quanti di questi sono iscritti al programma premium? | B13: =CONCATENATE("Le attività che hanno valutazione maggiori di 6 sono : ", " ",Operative_Fabio_Mencio!AR2, ", ", "di cui Premium:", " ", Operative_Fabio_Mencio!AS2,".") -> Le attività che hanno valutazione maggiori di 6 sono : 120, di cui Premium: 58. | C13: UNICI per raggruppare ID attività, 2 CERCAVER per Voti e Premium;CONTA.SE per voto >6 e CONTA.PIU.SE per la doppia condizione. | D13: =IF(TRIM(C13)="",0,LEN(TRIM(C13))-LEN(SUBSTITUTE(TRIM(C13)," ",""))+1) -> 20
A14: 11. Quanti ID - Attività hanno effettuato promozioni sui social? Tra i top 10 (per kg di prodotto salvati) quanti lo hanno fatto | B14: =_xlfn.CONCAT("Le società con promozioni sui social sono:", " ", Operative_Fabio_Mencio!AY2, " tra i top 10 sono:", " ",Operative_Fabio_Mencio!AZ2) -> Le società con promozioni sui social sono: 210 tra i top 10 sono: 7 | C14: UNICI ID attività, 2 CERCAVERT , CONTASE per social si, filtro con ordinamento decrescente e sui top10 CONTASE | D14: =IF(TRIM(C14)="",0,LEN(TRIM(C14))-LEN(SUBSTITUTE(TRIM(C14)," ",""))+1) -> 18
A15: 12. Qual è ID - Attività con iscrizione al programma premium (colonna I) e iscritti da oltre 1 anno (colonna J), col numero maggiori di kg salvati? (ID attività) | B15: =CONCATENATE("l'attività è l'ID: ", Pivot!A5) -> l'attività è l'ID: 3028 | C15: Utilizzata Pivot 12, filtri su premium e iscritti oltre 1 anno Sì, poi ordinati kg salvati in ordine decrescente | D15: =IF(TRIM(C15)="",0,LEN(TRIM(C15))-LEN(SUBSTITUTE(TRIM(C15)," ",""))+1) -> 19
A16: 13. Quale regione ha salvato il maggior numero di kg di cibo? E quale meno? | B16: =CONCATENATE("La regione con maggior numero di KG di cibo salvati è:", Pivot!E2, ", quella con meno: ",Pivot!E20) -> La regione con maggior numero di KG di cibo salvati è:LOM, quella con meno: MOL | C16: Utilizzata Pivot 13, Regioni in righe e somma KG in Valori, ordinato con filtro la colonna | D16: =IF(TRIM(C16)="",0,LEN(TRIM(C16))-LEN(SUBSTITUTE(TRIM(C16)," ",""))+1) -> 16
A17: 14. Indica la media di kg salvati per le attività che hanno svolto attività social e per quelle che non l'hanno fatto (da considerare in modo distinto le ID-Attività presenti più volte) | B17: =CONCATENATE("La media dei Kg di cibo salvati: Social Si", " ",Operative_Fabio_Mencio!BG7," Kg",",", "Social No ",Operative_Fabio_Mencio!BH7," Kg") -> La media dei Kg di cibo salvati: Social Si 514 Kg,Social No 500 Kg | C17: UNICI per raggruppare ID attività, 2 CERCAVER, 2 INT(MEDIA.PIÙ.SE) 1 per social si e 1 per social no. | D17: =IF(TRIM(C17)="",0,LEN(TRIM(C17))-LEN(SUBSTITUTE(TRIM(C17)," ",""))+1) -> 18
A18: 15. Indica la media di ordini giornalieri effettuati per ciascuna regione. | B18: =Pivot!M2 -> MAR 8 Kg VEN 9,22 Kg ABR 6,67 Kg CAL 8,86 Kg CAM 7,62 Kg EMR 7,5 Kg FVG 6 Kg LAZ 7,94 Kg LIG 8,6 Kg LOM 7,8 Kg MOL 13 Kg PIE 7,17 Kg PUG 7,65 Kg SAR 10,2 Kg SIC 8,72 Kg TAA 5,25 Kg TOS 9,26 Kg UMB 9,6 Kg VDA 12 Kg | C18: Pivot 15 con valori in media, int valore medio, conc regione e media,TESTO.UNISCI per la trasposta | D18: =IF(TRIM(C18)="",0,LEN(TRIM(C18))-LEN(SUBSTITUTE(TRIM(C18)," ",""))+1) -> 16

Sheet Pivot
A1: Iscritti per + di 1 anno | B1: Sì | E1: Regione | F1: Somma di Kg di Cibo Salvati | I1: Regione | J1: Media di Ordini
A2: Iscrizione Premium Attiva | B2: Sì | E2: LOM | F2: 34561 | I2: MAR | J2: 8 | K2: =ROUND(J2,2) -> 8 | L2: =_xlfn.CONCAT(I2, " ",K2, " ", "Kg") -> MAR 8 Kg | M2: =_xlfn.TEXTJOIN(" ",TRUE,L2:L20) -> MAR 8 Kg VEN 9,22 Kg ABR 6,67 Kg CAL 8,86 Kg CAM 7,62 Kg EMR 7,5 Kg FVG 6 Kg LAZ 7,94 Kg LIG 8,6 Kg LOM 7,8 Kg MOL 13 Kg PIE 7,17 Kg PUG 7,65 Kg SAR 10,2 Kg SIC 8,72 Kg TAA 5,25 Kg TOS 9,26 Kg UMB 9,6 Kg VDA 12 Kg
E3: LAZ | F3: 19406 | I3: VEN | J3: 9.2222222 | K3: =ROUND(J3,2) -> 9.22 | L3: =_xlfn.CONCAT(I3, " ",K3, " ", "Kg") -> VEN 9,22 Kg
A4: ID - Attività | B4: Somma di Kg di Cibo Salvati | E4: PIE | F4: 14897 | I4: ABR | J4: 6.6666667 | K4: =ROUND(J4,2) -> 6.67 | L4: =_xlfn.CONCAT(I4, " ",K4, " ", "Kg") -> ABR 6,67 Kg
A5: 3028 | B5: 1584 | E5: CAM | F5: 14372 | I5: CAL | J5: 8.8571429 | K5: =ROUND(J5,2) -> 8.86 | L5: =_xlfn.CONCAT(I5, " ",K5, " ", "Kg") -> CAL 8,86 Kg
A6: 2639 | B6: 1551 | E6: PUG | F6: 10399 | I6: CAM | J6: 7.6176471 | K6: =ROUND(J6,2) -> 7.62 | L6: =_xlfn.CONCAT(I6, " ",K6, " ", "Kg") -> CAM 7,62 Kg
A7: 3068 | B7: 997 | E7: SIC | F7: 10394 | I7: EMR | J7: 7.5 | K7: =ROUND(J7,2) -> 7.5 | L7: =_xlfn.CONCAT(I7, " ",K7, " ", "Kg") -> EMR 7,5 Kg
A8: 5180 | B8: 988 | E8: EMR | F8: 9306 | I8: FVG | J8: 6 | K8: =ROUND(J8,2) -> 6 | L8: =_xlfn.CONCAT(I8, " ",K8, " ", "Kg") -> FVG 6 Kg
A9: 4233 | B9: 973 | E9: VEN | F9: 9272 | I9: LAZ | J9: 7.9428571 | K9: =ROUND(J9,2) -> 7.94 | L9: =_xlfn.CONCAT(I9, " ",K9, " ", "Kg") -> LAZ 7,94 Kg
A10: 3631 | B10: 960 | E10: TOS | F10: 7664 | I10: LIG | J10: 8.6 | K10: =ROUND(J10,2) -> 8.6 | L10: =_xlfn.CONCAT(I10, " ",K10, " ", "Kg") -> LIG 8,6 Kg
A11: 3912 | B11: 955 | E11: MAR | F11: 3744 | I11: LOM | J11: 7.8035714 | K11: =ROUND(J11,2) -> 7.8 | L11: =_xlfn.CONCAT(I11, " ",K11, " ", "Kg") -> LOM 7,8 Kg
A12: 4396 | B12: 953 | E12: SAR | F12: 3381 | I12: MOL | J12: 13 | K12: =ROUND(J12,2) -> 13 | L12: =_xlfn.CONCAT(I12, " ",K12, " ", "Kg") -> MOL 13 Kg
A13: 4173 | B13: 951 | E13: FVG | F13: 3047 | I13: PIE | J13: 7.1666667 | K13: =ROUND(J13,2) -> 7.17 | L13: =_xlfn.CONCAT(I13, " ",K13, " ", "Kg") -> PIE 7,17 Kg
A14: 5563 | B14: 935 | E14: CAL | F14: 2697 | I14: PUG | J14: 7.65 | K14: =ROUND(J14,2) -> 7.65 | L14: =_xlfn.CONCAT(I14, " ",K14, " ", "Kg") -> PUG 7,65 Kg
A15: 4918 | B15: 883 | E15: UMB | F15: 2516 | I15: SAR | J15: 10.2 | K15: =ROUND(J15,2) -> 10.2 | L15: =_xlfn.CONCAT(I15, " ",K15, " ", "Kg") -> SAR 10,2 Kg
A16: 5243 | B16: 856 | E16: ABR | F16: 2228 | I16: SIC | J16: 8.72 | K16: =ROUND(J16,2) -> 8.72 | L16: =_xlfn.CONCAT(I16, " ",K16, " ", "Kg") -> SIC 8,72 Kg
... A20: 4033 | B20: 797 | E20: MOL | F20: 232 | I20: VDA | J20: 12 | K20: =ROUND(J20,2) -> 12 | L20: =_xlfn.CONCAT(I20, " ",K20, " ", "Kg") -> VDA 12 Kg
A21: 5491 | B21: 779 | E21: (vuoto) | I21: (vuoto) | K21: =ROUND(J21,2) -> 0 | L21: =_xlfn.CONCAT(I21, " ",K21, " ", "Kg") -> (vuoto) 0 Kg
A22: 2514 | B22: 776 | E22: Totale complessivo | F22: 152151 | I22: Totale complessivo | J22: 8.0233333 | K22: =ROUND(J22,2) -> 8.02 | L22: =_xlfn.CONCAT(I22, " ",K22, " ", "Kg") -> Totale complessivo 8,02 Kg
A23: 3372 | B23: 749
A24: 5079 | B24: 748
A25: 3552 | B25: 736
A26: 2851 | B26: 735
A27: 5160 | B27: 705
A28: 3363 | B28: 670
A29: 3579 | B29: 656
A30: 3184 | B30: 655
A31: 4349 | B31: 653
A32: 2765 | B32: 645
A33: 5031 | B33: 626
A34: 2509 | B34: 606
... A75: 2899 | B75: 23
A76: Totale complessivo | B76: 39419
